BEGIN:VCALENDAR
VERSION:2.0
PRODID:-//Date iCal//NONSGML kigkonsult.se iCalcreator 2.20.4//
METHOD:PUBLISH
BEGIN:VTIMEZONE
TZID:Asia/Shanghai
BEGIN:STANDARD
DTSTART:19910915T020000
TZOFFSETFROM:+0900
TZOFFSETTO:+0800
TZNAME:CST
END:STANDARD
END:VTIMEZONE
BEGIN:VEVENT
UID:calendar.8884132.field_dates.0@www.alumni.cam.ac.uk
DTSTAMP:20260424T163818Z
CREATED:20260424T090023Z
DESCRIPTION:For the latest information\, please visit: https://www.alumni.c
 am.ac.uk/events/beijing-st-edmunds-the-legacy-of-tanning-houses-behind-lou
 is-vuitton-and-herm%C3%A8s
DTSTART;TZID=Asia/Shanghai:20260507T180000
DTEND;TZID=Asia/Shanghai:20260507T200000
LAST-MODIFIED:20260424T094904Z
SUMMARY:Beijing\, St Edmund's: The legacy of tanning houses behind Louis Vu
 itton and Hermès
URL;TYPE=URI:https://www.alumni.cam.ac.uk/events/beijing-st-edmunds-the-leg
 acy-of-tanning-houses-behind-louis-vuitton-and-herm%C3%A8s
END:VEVENT
END:VCALENDAR
