BEGIN:VCALENDAR
VERSION:2.0
PRODID:-//Date iCal//NONSGML kigkonsult.se iCalcreator 2.20.4//
METHOD:PUBLISH
BEGIN:VTIMEZONE
TZID:America/Los_Angeles
BEGIN:STANDARD
DTSTART:20251102T020000
TZOFFSETFROM:-0700
TZOFFSETTO:-0800
RDATE:20261101T020000
TZNAME:PST
END:STANDARD
BEGIN:DAYLIGHT
DTSTART:20260308T020000
TZOFFSETFROM:-0800
TZOFFSETTO:-0700
TZNAME:PDT
END:DAYLIGHT
END:VTIMEZONE
BEGIN:VEVENT
UID:calendar.8884022.field_dates.0@www.alumni.cam.ac.uk
DTSTAMP:20260424T163516Z
CREATED:20260421T150450Z
DESCRIPTION:For the latest information\, please visit: https://www.alumni.c
 am.ac.uk/events/san-diego-spring-choral-concert
DTSTART;TZID=America/Los_Angeles:20260509T160000
DTEND;TZID=America/Los_Angeles:20260509T200000
LAST-MODIFIED:20260422T083428Z
SUMMARY:San Diego\, Spring Choral Concert
URL;TYPE=URI:https://www.alumni.cam.ac.uk/events/san-diego-spring-choral-co
 ncert
END:VEVENT
END:VCALENDAR
